BEGIN:VCALENDAR
VERSION:2.0
PRODID:-//Above Par Network - ECPv6.15.20//NONSGML v1.0//EN
CALSCALE:GREGORIAN
METHOD:PUBLISH
X-WR-CALNAME:Above Par Network
X-ORIGINAL-URL:https://aboveparnetwork.com
X-WR-CALDESC:Events for Above Par Network
REFRESH-INTERVAL;VALUE=DURATION:PT1H
X-Robots-Tag:noindex
X-PUBLISHED-TTL:PT1H
BEGIN:VTIMEZONE
TZID:America/Phoenix
BEGIN:STANDARD
TZOFFSETFROM:-0700
TZOFFSETTO:-0700
TZNAME:MST
DTSTART:20240101T000000
END:STANDARD
END:VTIMEZONE
BEGIN:VEVENT
DTSTART;TZID=America/Phoenix:20251213T090000
DTEND;TZID=America/Phoenix:20251213T140000
DTSTAMP:20260420T052035
CREATED:20250719T201951Z
LAST-MODIFIED:20250804T010743Z
UID:4047-1765616400-1765634400@aboveparnetwork.com
SUMMARY:3rd Annual APN Ryder Cup
DESCRIPTION:LIMITED TO 40 PLAYERS – APN MEMBERS ONLY – NO GUESTS\n Title Sponsor: One Stop Mail\n Team Sponsors: Meritum Credit Card Processing & Rob Elder Loans – Granite Bank\n\nDraft Party\nThursday\, December 4th | 6:00 PM\nRTO’S – 6646 E. Superstition Springs Blvd\, Mesa\, AZ 85206\n Ryder Cup Match Day\nSaturday\, December 13th | 9:00 AM Shotgun\nSpringfield Golf Club – 1200 E. St. Andrews Blvd\, Chandler\, AZ 85249\n Format: 2-Person Teams \n\nHoles 1–6: Scramble\nHoles 7–12: Alternate Shot\nHoles 13–18: Best Ball\n\n Cost: $210 Per Player\nIncludes:\n 18 Holes w/ Cart\n A Brand-New Pair of Foot Joy Golf Shoes – You Pick Your Pair!\n Official APN Ryder Cup Polo\n Prize Money – Each player on the winning team gets $40 CASH!\n\nThis event registration is NON REFUNDABLE. We will have a waitlist/alternate list in the event someone needs to cancel. All registrations are through the website.
URL:https://aboveparnetwork.com/event/3rd-annual-apn-ryder-cup/
LOCATION:Springfield Golf Course\, 1200 E St. Andrews Blvd\, Chandler\, AZ\, 85249\, United States
ATTACH;FMTTYPE=image/jpeg:https://aboveparnetwork.com/wp-content/uploads/2025/07/523889231_10109157087555434_1890888268564812733_n.jpg
END:VEVENT
BEGIN:VEVENT
DTSTART;TZID=America/Phoenix:20251212T090000
DTEND;TZID=America/Phoenix:20251212T143000
DTSTAMP:20260420T052035
CREATED:20251103T223641Z
LAST-MODIFIED:20251209T011253Z
UID:5674-1765530000-1765549800@aboveparnetwork.com
SUMMARY:Buy Back Your Time – Professional Development Workshop
DESCRIPTION:Buy Back Your Time – Professional Development Workshop\n Friday\, December 12th\n HD South Museum\n 9:00 AM – 2:30 PM\n $89 per person \nJoin us for a transformative\, hands-on workshop based on Dan Martell’s bestselling book\, Buy Back Your Time. Learn proven strategies to work smarter\, find better balance\, and focus on what truly matters. \nYour registration includes:\n Light breakfast\n Lunch\n Full professional development workshop\n Your own copy of Buy Back Your Time \nLimited to just 50 participants — reserve your spot today!
URL:https://aboveparnetwork.com/event/buy-back-your-time-professional-development-workshop/
LOCATION:HD South-Home of the Gilbert Museum\, 10 S Gilbert Rd\, Gilbert\, AZ\, 85296\, United States
ATTACH;FMTTYPE=image/jpeg:https://aboveparnetwork.com/wp-content/uploads/2025/11/93d1c87d-18ca-42f8-a97b-7eb8f35e88b6.__CR00970600_PT0_SX970_V1___.jpg
END:VEVENT
BEGIN:VEVENT
DTSTART;TZID=America/Phoenix:20251210T120000
DTEND;TZID=America/Phoenix:20251210T130000
DTSTAMP:20260420T052035
CREATED:20251001T210331Z
LAST-MODIFIED:20251001T210331Z
UID:5261-1765368000-1765371600@aboveparnetwork.com
SUMMARY:APN Elevate G1 Meeting
DESCRIPTION:APN Elevate G1 Meeting \n APN Elevate G1 will meet every Wednesday 12:00 pm – 1:00 PM via ZOOM.
URL:https://aboveparnetwork.com/event/apn-elevate-g1-meeting-49/
LOCATION:Via Zoom
END:VEVENT
BEGIN:VEVENT
DTSTART;TZID=America/Phoenix:20251209T060000
DTEND;TZID=America/Phoenix:20251209T070000
DTSTAMP:20260420T052035
CREATED:20251001T204147Z
LAST-MODIFIED:20251001T205128Z
UID:5202-1765260000-1765263600@aboveparnetwork.com
SUMMARY:APN Elevate G2 Meeting
DESCRIPTION:APN Elevate G2 Meeting \n APN Elevate G2 will meet every Tuesday 6:00 AM – 7:00 AM via ZOOM.
URL:https://aboveparnetwork.com/event/apn-elevate-g2-meeting-10/
LOCATION:Via Zoom
END:VEVENT
BEGIN:VEVENT
DTSTART;TZID=America/Phoenix:20251206T103000
DTEND;TZID=America/Phoenix:20251206T173000
DTSTAMP:20260420T052035
CREATED:20250803T001614Z
LAST-MODIFIED:20250804T011033Z
UID:4294-1765017000-1765042200@aboveparnetwork.com
SUMMARY:🎄🎅 THE MOST WONDERFUL PUB CRAWL OF THE YEAR! 🎅🎄
DESCRIPTION:Annual APN Holiday Pub Crawl – Sponsored by Meritum Credit Card Processing \nSaturday\, December 6th | 10:30 AM – 5:30 PM\nDeck the halls… and the bar stools—because the APN HOLIDAY EDITION PUB CRAWL is back and boozier than ever! \n HERE’S THE GAME PLAN:\nWe’re hitting 5 different East Valley bars over 7 glorious hours of holiday cheer\, belly laughs\, questionable dance moves\, and enough beverages to make even the Grinch get turnt. \n WHAT’S INCLUDED:\n Party bus sleigh ride to all bar stops (because reindeer don’t have cupholders)\n FREE BEER on the bus – because hydration is for January\n A limited-edition APN Pub Crawl T-shirt – wear it with pride (or shame)\n Holiday games\, surprise giveaways\, and spontaneous karaoke that no one asked for\n 5 bar stops filled with drink specials\, festive shenanigans\, and probably at least one guy dressed as Cousin Eddie\n Limited to just 20 party animals – $95 per person\nFirst come\, first chugged.\nUgly sweaters\, Santa hats\, elf ears\, reindeer onesies—wear whatever gets you in the spirit (or whatever’s clean). Just don’t miss this legendary sleigh ride of adult decision-making. \n Tis the season to be jolly… and slightly irresponsible! \n\nSign up now before this sleigh takes off without you!
URL:https://aboveparnetwork.com/event/%f0%9f%8e%84%f0%9f%8e%85-the-most-wonderful-pub-crawl-of-the-year-%f0%9f%8e%85%f0%9f%8e%84/
ATTACH;FMTTYPE=image/png:https://aboveparnetwork.com/wp-content/uploads/2025/08/images-6.png
END:VEVENT
BEGIN:VEVENT
DTSTART;TZID=America/Phoenix:20251204T173000
DTEND;TZID=America/Phoenix:20251204T200000
DTSTAMP:20260420T052035
CREATED:20250722T190502Z
LAST-MODIFIED:20251204T013436Z
UID:4087-1764869400-1764878400@aboveparnetwork.com
SUMMARY:APN Ryder Cup Draft Party Presented by One Stop Mail
DESCRIPTION:Thursday\, December 4th |  5:30 PM\n HD South Museum\nJoin us for the official draft party! Each player will receive their official Ryder Cup polo and a QR code to select their FootJoy golf shoes. Don’t miss this exciting kickoff to one of our biggest golf events of the year. General admission (non golfer) gets you in to network connect and have a fun evening. \n\nTitle Sponsor: One Stop Mail\nTeam Sponsors: Meritum Credit Card Processing & Rob Elder Loans – Granite BankThis year’s Draft Party is going full NFL Draft mode. That’s right — lights\, cameras\, red carpet\, live interviews when you arrive\, and a vibe like never before. Lead by APN Ryder Cup Commissioner Karin Gadberry!\n FREE Food and Drinks\n Live DJ\n Players Receive your APN Ryder Cup Polo + QR code to pick your custom FootJoy shoes\nGeneral admission gets you in to network and connect with golfers and includes food and drinks.\nStart planning your outfit now — chains\, jerseys\, whatever your vibe is. Bring the energy with Our Red Carpet Sponsor Medalist Legal\n\n 
URL:https://aboveparnetwork.com/event/3rd-annual-apn-ryder-cup-draft-party/
LOCATION:HD South-Home of the Gilbert Museum\, 10 S Gilbert Rd\, Gilbert\, AZ\, 85296\, United States
END:VEVENT
BEGIN:VEVENT
DTSTART;TZID=America/Phoenix:20251203T120000
DTEND;TZID=America/Phoenix:20251203T130000
DTSTAMP:20260420T052035
CREATED:20251001T210229Z
LAST-MODIFIED:20251001T210229Z
UID:5258-1764763200-1764766800@aboveparnetwork.com
SUMMARY:APN Elevate G1 Meeting
DESCRIPTION:APN Elevate G1 Meeting \n APN Elevate G1 will meet every Wednesday 12:00 pm – 1:00 PM via ZOOM.
URL:https://aboveparnetwork.com/event/apn-elevate-g1-meeting-48/
LOCATION:Via Zoom
END:VEVENT
BEGIN:VEVENT
DTSTART;TZID=America/Phoenix:20251202T060000
DTEND;TZID=America/Phoenix:20251202T070000
DTSTAMP:20260420T052035
CREATED:20251001T204050Z
LAST-MODIFIED:20251001T205111Z
UID:5199-1764655200-1764658800@aboveparnetwork.com
SUMMARY:APN Elevate G2 Meeting
DESCRIPTION:APN Elevate G2 Meeting \n APN Elevate G2 will meet every Tuesday 6:00 AM – 7:00 AM via ZOOM.
URL:https://aboveparnetwork.com/event/apn-elevate-g2-meeting-9/
LOCATION:Via Zoom
END:VEVENT
BEGIN:VEVENT
DTSTART;TZID=America/Phoenix:20251126T120000
DTEND;TZID=America/Phoenix:20251126T130000
DTSTAMP:20260420T052035
CREATED:20251001T210119Z
LAST-MODIFIED:20251001T210119Z
UID:5255-1764158400-1764162000@aboveparnetwork.com
SUMMARY:APN Elevate G1 Meeting
DESCRIPTION:APN Elevate G1 Meeting \n APN Elevate G1 will meet every Wednesday 12:00 pm – 1:00 PM via ZOOM.
URL:https://aboveparnetwork.com/event/apn-elevate-g1-meeting-47/
LOCATION:Via Zoom
END:VEVENT
BEGIN:VEVENT
DTSTART;TZID=America/Phoenix:20251126T080000
DTEND;TZID=America/Phoenix:20251126T130000
DTSTAMP:20260420T052035
CREATED:20250822T231625Z
LAST-MODIFIED:20251117T165255Z
UID:4631-1764144000-1764162000@aboveparnetwork.com
SUMMARY:APN Turkey Shoot Out- Presented by The Elder Team
DESCRIPTION:🏌️‍♂️ APN Turkey Shootout Skins GamePresented by The Elder Team – Granite Bank \nGet ready to hit the course for a fun and competitive morning of golf before the holiday! Join us for the APN Turkey Shootout Skins Game at the stunning Gold Canyon Golf Resort – Sidewinder Course. \n📅 When: Wednesday\, November 26📍 Where: Gold Canyon Golf Resort – Sidewinder Course💲 Fees: $155 per player🎯 Optional Skins Game: $20 buy-in (handicapped)⛳ Players: Limited to 16 participants🕗 Tee Time: 8:00 a.m. \nSpots are limited — reserve your place today and don’t miss out on a great round of golf\, competition\, and community before Thanksgiving!
URL:https://aboveparnetwork.com/event/apn-turkey-shoot-out-presented-by-the-elder-team/
LOCATION:Gold Canyon Golf Resort Sidewinder Course\, 6100 S Kinds Ranch Rd\, Gold Canyon\, Arizona\, 85118\, United States
ATTACH;FMTTYPE=image/jpeg:https://aboveparnetwork.com/wp-content/uploads/2025/03/Elder-Team-Logo-Granite-e1756667083926.jpg
END:VEVENT
BEGIN:VEVENT
DTSTART;TZID=America/Phoenix:20251125T060000
DTEND;TZID=America/Phoenix:20251125T070000
DTSTAMP:20260420T052035
CREATED:20251001T203955Z
LAST-MODIFIED:20251001T205048Z
UID:5196-1764050400-1764054000@aboveparnetwork.com
SUMMARY:APN Elevate G2 Meeting
DESCRIPTION:APN Elevate G2 Meeting \n APN Elevate G2 will meet every Tuesday 6:00 AM – 7:00 AM via ZOOM.
URL:https://aboveparnetwork.com/event/apn-elevate-g2-meeting-8/
LOCATION:Via Zoom
END:VEVENT
BEGIN:VEVENT
DTSTART;TZID=America/Phoenix:20251122T070000
DTEND;TZID=America/Phoenix:20251122T170000
DTSTAMP:20260420T052035
CREATED:20241206T233455Z
LAST-MODIFIED:20251117T000103Z
UID:1228-1763794800-1763830800@aboveparnetwork.com
SUMMARY:5th Annual APN Golf Classic
DESCRIPTION:5th Annual APN Golf Classic – Saturday November 22nd \n\nTime: 7am registration / 8am shotgun start\nLocation: Augusta Ranch Golf Course\n18 holes of golf with cart\nluncheon live-action afterparty\nAPN VIP Bracelets – 5th Annual APN Golf Classic \nEarly Bird Special: $50 per person – Skip the lines at check-in!\nDay-of Price: $60\nEach VIP Bracelet Includes: \n·         An arm’s length of 50/50 tickets \n·         Entry to win a pair of Foot Joy golf shoes – you pick the pair! \n·         Entry to win a brand-new PXG Driver \n·         Entry to win a 50” TV \n·         Entry to win a 40” TV \n·         Entry to win any MLB\, NFL or NBA jersey of your choice. \n·         Entry to win a foursome at Augusta Ranch \n·         Entry to win a foursome at Springfield Golf Course \n·         Entry to win a foursome Stone Creek Golf Club \n·         Entr to win a Foursome to Augusta Ranch \n·         Entry to win $150 gift card to Coronado Island Golf Course -San Diego \n·         Entry to win $200 gift card to Taco Giro Mexican \n·         Entry to win $100 gift card On The Green Sports Bar \n·         Entry to win $25 gift card to Five Guys \n·         Entry to win $150 gift card to Scheels \n·         Entry to win $25  gift card to Spokes on Southern \n·         Entry to win $50 gift card Texas Roadhouse \n·         Entry to win $50 RTO’S gift card \n·         Entry to win $50 gift card to Dog Haus  \n·         Entry to win One IV Service from IV League Arizona \n·         Entry to win $25 gift card to Delchuterie \n·         Entry to win $25 gift card to Delchuterie \n·         Entry to win a dozen Pro V 1 Golf Balls \n·         Entry into Putting Contest for a change to win a 50” TV \n·         Entry into Best Option Restoration Craps Game for a change to win a 65” TV \n·         Entry to win Foursome at Raven Golf Course \n VIP Team Bonus: If all four players in your foursome purchase a VIP bracelet\, your team gets 3 strokes deducted from your score!\n\n 
URL:https://aboveparnetwork.com/event/5th-annual-apn-golf-classic/
LOCATION:Augusta Ranch Golf Course\, 2401 S Lansing\, Mesa\, Arizona\, 85209
END:VEVENT
BEGIN:VEVENT
DTSTART;TZID=America/Phoenix:20251119T120000
DTEND;TZID=America/Phoenix:20251119T130000
DTSTAMP:20260420T052035
CREATED:20251001T210017Z
LAST-MODIFIED:20251001T210017Z
UID:5252-1763553600-1763557200@aboveparnetwork.com
SUMMARY:APN Elevate G1 Meeting
DESCRIPTION:APN Elevate G1 Meeting \n APN Elevate G1 will meet every Wednesday 12:00 pm – 1:00 PM via ZOOM.
URL:https://aboveparnetwork.com/event/apn-elevate-g1-meeting-46/
LOCATION:Via Zoom
END:VEVENT
BEGIN:VEVENT
DTSTART;TZID=America/Phoenix:20251118T060000
DTEND;TZID=America/Phoenix:20251118T070000
DTSTAMP:20260420T052035
CREATED:20251001T203845Z
LAST-MODIFIED:20251001T205030Z
UID:5193-1763445600-1763449200@aboveparnetwork.com
SUMMARY:APN Elevate G2 Meeting
DESCRIPTION:APN Elevate G2 Meeting \n APN Elevate G2 will meet every Tuesday 6:00 AM – 7:00 AM via ZOOM.
URL:https://aboveparnetwork.com/event/apn-elevate-g2-meeting-7/
LOCATION:Via Zoom
END:VEVENT
BEGIN:VEVENT
DTSTART;TZID=America/Phoenix:20251114T173000
DTEND;TZID=America/Phoenix:20251114T200000
DTSTAMP:20260420T052035
CREATED:20250722T220045Z
LAST-MODIFIED:20250804T165729Z
UID:4092-1763141400-1763150400@aboveparnetwork.com
SUMMARY:2nd Annual APN Friendsgiving
DESCRIPTION:Hosted by Recruiter Pro 360 – Steve & Trisha Alexander\n Friday\, November 14th\n 5:30 PM\n 10917 E Thornton Ave\, Mesa\, AZ 85212\n Limited to 50 Guests\n $10 Donation – All proceeds will benefit The United Food Bank this holiday season\n  \nJoin your APN family for an unforgettable evening of great food\, drinks\, networking\, and meaningful fellowship. Space is limited\, so be sure to reserve your spot early!
URL:https://aboveparnetwork.com/event/2nd-annual-apn-friendsgiving/
END:VEVENT
BEGIN:VEVENT
DTSTART;TZID=America/Phoenix:20251112T120000
DTEND;TZID=America/Phoenix:20251112T130000
DTSTAMP:20260420T052035
CREATED:20251001T205916Z
LAST-MODIFIED:20251001T205916Z
UID:5249-1762948800-1762952400@aboveparnetwork.com
SUMMARY:APN Elevate G1 Meeting
DESCRIPTION:APN Elevate G1 Meeting \n APN Elevate G1 will meet every Wednesday 12:00 pm – 1:00 PM via ZOOM.
URL:https://aboveparnetwork.com/event/apn-elevate-g1-meeting-45/
LOCATION:Via Zoom
END:VEVENT
BEGIN:VEVENT
DTSTART;TZID=America/Phoenix:20251112T074500
DTEND;TZID=America/Phoenix:20251112T090000
DTSTAMP:20260420T052035
CREATED:20250915T011709Z
LAST-MODIFIED:20251102T223942Z
UID:4831-1762933500-1762938000@aboveparnetwork.com
SUMMARY:Breakfast of Champions: The Power of Prevention- Before Shit Hits the Fan
DESCRIPTION:Breakfast of Champions: The Power of PreventionBefore Shit Hits the Fan \n📅 Save the Date: November 12th⚡ Limited Participation: 40 People \nWe are proud to partner with Property Defenders\, Foundation Insurance and Carlife to bring you this exclusive event. Our November Breakfast of Champions will focus on The Power of Prevention—how to protect your business\, your people\, and your future before challenges turn into crises. This month’s conversation\, Before Shit Hits the Fan\, will feature insights from three leaders who know the importance of preparation: \n\nJeff DeBellevue\, Property Defenders\n\n\n\nJan Simon\, Foundation Insurance \n\n\nJeff Breid\, Owner of Carlife \n\n\nTogether\, they’ll share real-world strategies and experiences to help you stay ahead of risks and lead with confidence\, no matter what comes your way. \n👉 This event will also feature an exclusive opportunity reserved for just 20 participants to take part in a bonus session in the range at 9-10am. \nCustomers are allowed to bring all of their own equipment. This includes firearms\, Targets\, Ear pro / Eye Pro\, and ammo.\n\nAmmo Restrictions:\nNo steel case or steel core\nNo tracer rounds\nNo armor piercing rounds\nNo bird shot (shotguns only)\nThis feature is brought to you by our Presenting Sponsor Fuse Flex Space. \nSpecial thanks to Eric Pettitt with Pettitt Wealth for helping to coordinate this experience.
URL:https://aboveparnetwork.com/event/breakfast-of-champions-the-power-of-prevention-before-shit-hits-the-fan/
LOCATION:Unlimited Ammo\, 1695 S Santan Village Pkwy\, Gilbert\, AZ\, 85295
ATTACH;FMTTYPE=image/png:https://aboveparnetwork.com/wp-content/uploads/2025/09/image001.png
END:VEVENT
BEGIN:VEVENT
DTSTART;TZID=America/Phoenix:20251111T080000
DTEND;TZID=America/Phoenix:20251111T140000
DTSTAMP:20260420T052035
CREATED:20250802T174058Z
LAST-MODIFIED:20251107T164445Z
UID:4287-1762848000-1762869600@aboveparnetwork.com
SUMMARY:Stars\, Stripes & Slices Golf Tournament Presented by Pam Johnson with State Farm
DESCRIPTION:Tuesday\, November 11th – Veterans Day\n\n2 Person Scramble\n\n8:00 AM Shotgun Start\nAugusta Ranch Golf Course\n$89 per player – Includes:\n 18 holes of golf\n Cart\n The Elder Team Buffet Lunch – Hamburgers\, Hot Dogs\, Cesar Salad\, Potato Salad and Soft Drink\n Prizes\n Limited to just 40 players – first come\, first served! \n Lunch with Rob Elder and awards immediately following the round at Scratch Pub & Grill
URL:https://aboveparnetwork.com/event/stars-stripes-slices-presented-by-pam-johnson-with-state-farm/
LOCATION:Augusta Ranch Golf Course\, 2401 S Lansing\, Mesa\, Arizona\, 85209
END:VEVENT
BEGIN:VEVENT
DTSTART;TZID=America/Phoenix:20251111T060000
DTEND;TZID=America/Phoenix:20251111T070000
DTSTAMP:20260420T052035
CREATED:20251001T203744Z
LAST-MODIFIED:20251001T205014Z
UID:5190-1762840800-1762844400@aboveparnetwork.com
SUMMARY:APN Elevate G2 Meeting
DESCRIPTION:APN Elevate G2 Meeting \n APN Elevate G2 will meet every Tuesday 6:00 AM – 7:00 AM via ZOOM.
URL:https://aboveparnetwork.com/event/apn-elevate-g2-meeting-6/
LOCATION:Via Zoom
END:VEVENT
BEGIN:VEVENT
DTSTART;TZID=America/Phoenix:20251105T120000
DTEND;TZID=America/Phoenix:20251105T130000
DTSTAMP:20260420T052035
CREATED:20251001T205827Z
LAST-MODIFIED:20251001T205827Z
UID:5246-1762344000-1762347600@aboveparnetwork.com
SUMMARY:APN Elevate G1 Meeting
DESCRIPTION:APN Elevate G1 Meeting \n APN Elevate G1 will meet every Wednesday 12:00 pm – 1:00 PM via ZOOM.
URL:https://aboveparnetwork.com/event/apn-elevate-g1-meeting-44/
LOCATION:Via Zoom
END:VEVENT
BEGIN:VEVENT
DTSTART;TZID=America/Phoenix:20251104T060000
DTEND;TZID=America/Phoenix:20251104T070000
DTSTAMP:20260420T052035
CREATED:20251001T203533Z
LAST-MODIFIED:20251001T204941Z
UID:5186-1762236000-1762239600@aboveparnetwork.com
SUMMARY:APN Elevate G2 Meeting
DESCRIPTION:APN Elevate G2 Meeting \n APN Elevate G2 will meet every Tuesday 6:00 AM – 7:00 AM via ZOOM.
URL:https://aboveparnetwork.com/event/apn-elevate-g2-meeting-5/
LOCATION:Via Zoom
END:VEVENT
BEGIN:VEVENT
DTSTART;TZID=America/Phoenix:20251029T120000
DTEND;TZID=America/Phoenix:20251029T130000
DTSTAMP:20260420T052035
CREATED:20251001T205735Z
LAST-MODIFIED:20251001T205735Z
UID:5243-1761739200-1761742800@aboveparnetwork.com
SUMMARY:APN Elevate G1 Meeting
DESCRIPTION:APN Elevate G1 Meeting \n APN Elevate G1 will meet every Wednesday 12:00 pm – 1:00 PM via ZOOM.
URL:https://aboveparnetwork.com/event/apn-elevate-g1-meeting-43/
LOCATION:Via Zoom
END:VEVENT
BEGIN:VEVENT
DTSTART;TZID=America/Phoenix:20251028T173000
DTEND;TZID=America/Phoenix:20251028T193000
DTSTAMP:20260420T052035
CREATED:20250803T024829Z
LAST-MODIFIED:20251018T193356Z
UID:4343-1761672600-1761679800@aboveparnetwork.com
SUMMARY:Cigar Club - Themed Day of the Dead
DESCRIPTION:Cigar Club event Presented by Meritum Credit Card Processing \n Day of the Dead Tequila & Cigar Tasting  \n Tuesday\, October 28th |  5:30 PM – 7:30 PM \nCelebrate Day of the Dead with an evening of flavor and good company! \n Your evening includes: \n\n4 Cigars- Discover the story behind the smoke as you learn how cigars are made and enjoyed.\n4 Tequila Tastings- Discover the spirit behind the sip with Luann Lennox from Tequila Snobs.\nOpportunity to win a tequila bottle\n\n DJ’s Smokeshop \n Limited spots available – reserve your place today! \n 
URL:https://aboveparnetwork.com/event/cigar-club-save-the-date/
LOCATION:DJ’s Smoke Shop\, 70 West Warner Rd\, Chandler\, AZ\, 85225
ATTACH;FMTTYPE=image/png:https://aboveparnetwork.com/wp-content/uploads/2025/08/Your-paragraph-text-3.png
END:VEVENT
BEGIN:VEVENT
DTSTART;TZID=America/Phoenix:20251028T060000
DTEND;TZID=America/Phoenix:20251028T070000
DTSTAMP:20260420T052035
CREATED:20251001T203415Z
LAST-MODIFIED:20251001T204912Z
UID:5183-1761631200-1761634800@aboveparnetwork.com
SUMMARY:APN Elevate G2 Meeting
DESCRIPTION:APN Elevate G2 Meeting \n APN Elevate G2 will meet every Tuesday 6:00 AM – 7:00 AM via ZOOM.
URL:https://aboveparnetwork.com/event/apn-elevate-g2-meeting-4/
LOCATION:Via Zoom
END:VEVENT
BEGIN:VEVENT
DTSTART;TZID=America/Phoenix:20251022T120000
DTEND;TZID=America/Phoenix:20251022T130000
DTSTAMP:20260420T052035
CREATED:20251001T205646Z
LAST-MODIFIED:20251001T205646Z
UID:5240-1761134400-1761138000@aboveparnetwork.com
SUMMARY:APN Elevate G1 Meeting
DESCRIPTION:APN Elevate G1 Meeting \n APN Elevate G1 will meet every Wednesday 12:00 pm – 1:00 PM via ZOOM.
URL:https://aboveparnetwork.com/event/apn-elevate-g1-meeting-42/
LOCATION:Via Zoom
END:VEVENT
BEGIN:VEVENT
DTSTART;TZID=America/Phoenix:20251021T060000
DTEND;TZID=America/Phoenix:20251021T070000
DTSTAMP:20260420T052035
CREATED:20251001T203325Z
LAST-MODIFIED:20251001T204850Z
UID:5180-1761026400-1761030000@aboveparnetwork.com
SUMMARY:APN Elevate G2 Meeting
DESCRIPTION:APN Elevate G2 Meeting \n APN Elevate G2 will meet every Tuesday 6:00 AM – 7:00 AM via ZOOM.
URL:https://aboveparnetwork.com/event/apn-elevate-g2-meeting-3/
LOCATION:Via Zoom
END:VEVENT
BEGIN:VEVENT
DTSTART;TZID=America/Phoenix:20251015T120000
DTEND;TZID=America/Phoenix:20251015T130000
DTSTAMP:20260420T052035
CREATED:20251001T205603Z
LAST-MODIFIED:20251001T205603Z
UID:5237-1760529600-1760533200@aboveparnetwork.com
SUMMARY:APN Elevate G1 Meeting
DESCRIPTION:APN Elevate G1 Meeting \n APN Elevate G1 will meet every Wednesday 12:00 pm – 1:00 PM via ZOOM.
URL:https://aboveparnetwork.com/event/apn-elevate-g1-meeting-41/
LOCATION:Via Zoom
END:VEVENT
BEGIN:VEVENT
DTSTART;TZID=America/Phoenix:20251014T060000
DTEND;TZID=America/Phoenix:20251014T070000
DTSTAMP:20260420T052035
CREATED:20251001T203213Z
LAST-MODIFIED:20251001T204833Z
UID:5177-1760421600-1760425200@aboveparnetwork.com
SUMMARY:APN Elevate G2 Meeting
DESCRIPTION:APN Elevate G2 Meeting \n APN Elevate G2 will meet every Tuesday 6:00 AM – 7:00 AM via ZOOM.
URL:https://aboveparnetwork.com/event/apn-elevate-g2-meeting-2/
LOCATION:Via Zoom
END:VEVENT
BEGIN:VEVENT
DTSTART;TZID=America/Phoenix:20251008T120000
DTEND;TZID=America/Phoenix:20251008T130000
DTSTAMP:20260420T052035
CREATED:20251001T205519Z
LAST-MODIFIED:20251001T205519Z
UID:5234-1759924800-1759928400@aboveparnetwork.com
SUMMARY:APN Elevate G1 Meeting
DESCRIPTION:APN Elevate G1 Meeting \n APN Elevate G1 will meet every Wednesday 12:00 pm – 1:00 PM via ZOOM.
URL:https://aboveparnetwork.com/event/apn-elevate-g1-meeting-40/
LOCATION:Via Zoom
END:VEVENT
BEGIN:VEVENT
DTSTART;VALUE=DATE:20251008
DTEND;VALUE=DATE:20251013
DTSTAMP:20260420T052035
CREATED:20250418T193950Z
LAST-MODIFIED:20250701T173842Z
UID:2662-1759881600-1760313599@aboveparnetwork.com
SUMMARY:APN Golf Tour – Myrtle Beach\, SC!
DESCRIPTION:Wednesday\, October 8 – Sunday\, October 12\, 2025\nJoin us in Myrtle Beach for an unforgettable APN Golf Getaway!\nWelcome Event:\n Happy Hour Meet & Greet – Wednesday\, October 8 -6pm\nKick things off with great drinks\, great people\, and your official welcome gifts!\n Golf Schedule: \n\n3 Rounds of Golf on Thursday\, Friday\, and Saturday\nEnjoy friendly competition\, incredible courses\, and camaraderie all weekend long\n\n $100 Non-Refundable Deposit Required \nRegistration Includes: \n\nAPN Polo Shirt\nLimited Edition APN “Whack F*ck” Golf Hat\nOne additional surprise welcome gift\n\nMany attendees are bringing their significant others and families\, extending their trip into a full vacation experience — and we encourage you to do the same! \n HARD DEADLINE TO REGISTER: JULY 1ST\n\nSpots are filling fast — don’t miss your chance to be part of this premier APN event!
URL:https://aboveparnetwork.com/event/apn-golf-tour-myrtle-beach-sc/
END:VEVENT
END:VCALENDAR